BEGIN:VCALENDAR
VERSION:2.0
PRODID:-//Castle Rock Artist Alliance - ECPv6.15.20//NONSGML v1.0//EN
CALSCALE:GREGORIAN
METHOD:PUBLISH
X-ORIGINAL-URL:https://castlerockartistalliance.com
X-WR-CALDESC:Events for Castle Rock Artist Alliance
REFRESH-INTERVAL;VALUE=DURATION:PT1H
X-Robots-Tag:noindex
X-PUBLISHED-TTL:PT1H
BEGIN:VTIMEZONE
TZID:UTC
BEGIN:STANDARD
TZOFFSETFROM:+0000
TZOFFSETTO:+0000
TZNAME:UTC
DTSTART:20230101T000000
END:STANDARD
END:VTIMEZONE
BEGIN:VTIMEZONE
TZID:America/Denver
BEGIN:DAYLIGHT
TZOFFSETFROM:-0700
TZOFFSETTO:-0600
TZNAME:MDT
DTSTART:20230312T090000
END:DAYLIGHT
BEGIN:STANDARD
TZOFFSETFROM:-0600
TZOFFSETTO:-0700
TZNAME:MST
DTSTART:20231105T080000
END:STANDARD
BEGIN:DAYLIGHT
TZOFFSETFROM:-0700
TZOFFSETTO:-0600
TZNAME:MDT
DTSTART:20240310T090000
END:DAYLIGHT
BEGIN:STANDARD
TZOFFSETFROM:-0600
TZOFFSETTO:-0700
TZNAME:MST
DTSTART:20241103T080000
END:STANDARD
BEGIN:DAYLIGHT
TZOFFSETFROM:-0700
TZOFFSETTO:-0600
TZNAME:MDT
DTSTART:20250309T090000
END:DAYLIGHT
BEGIN:STANDARD
TZOFFSETFROM:-0600
TZOFFSETTO:-0700
TZNAME:MST
DTSTART:20251102T080000
END:STANDARD
END:VTIMEZONE
BEGIN:VEVENT
DTSTART;VALUE=DATE:20240511
DTEND;VALUE=DATE:20240714
DTSTAMP:20260423T092612
CREATED:20240219T121631Z
LAST-MODIFIED:20240514T021341Z
UID:22517-1715385600-1720915199@castlerockartistalliance.com
SUMMARY:Union American Bistro Artist Exhibit
DESCRIPTION:CRAA Presents featured Artists Carol Gori\, Pam Cramer\, Jerry Thompson \n \n 
URL:https://castlerockartistalliance.com/event/artist-exhibit-2/
LOCATION:Union American Bistro\, 3 S. Wilcox Street\, Castle Rock\, CO\, 80104\, United States
CATEGORIES:Art Show
ATTACH;FMTTYPE=image/jpeg:https://castlerockartistalliance.com/wp-content/uploads/2024/02/2023-02-25-2.jpg
ORGANIZER;CN="CRAA Exhibits Cindy Eberly":MAILTO:cindyeberlycraaexhibits@gmail.com
END:VEVENT
BEGIN:VEVENT
DTSTART;VALUE=DATE:20240518
DTEND;VALUE=DATE:20240721
DTSTAMP:20260423T092612
CREATED:20240220T002057Z
LAST-MODIFIED:20240514T021000Z
UID:22529-1715990400-1721519999@castlerockartistalliance.com
SUMMARY:Sinners & Saints Artist Exhibit
DESCRIPTION:CRAA presents featured Artists Carrie Martin   Kimberly Abbs \n  \n 
URL:https://castlerockartistalliance.com/event/artist-exhibit-3/
LOCATION:Sinners & Saints at Ecclesia
CATEGORIES:Art Show
ATTACH;FMTTYPE=image/jpeg:https://castlerockartistalliance.com/wp-content/uploads/2024/02/2021-04-12.jpg
END:VEVENT
BEGIN:VEVENT
DTSTART;VALUE=DATE:20240518
DTEND;VALUE=DATE:20240728
DTSTAMP:20260423T092612
CREATED:20240220T002454Z
LAST-MODIFIED:20240412T215633Z
UID:22531-1715990400-1722124799@castlerockartistalliance.com
SUMMARY:COFF33 Artist Exhibit
DESCRIPTION:CRAA presents featured Artist Julia Waters \n  \n 
URL:https://castlerockartistalliance.com/event/artist-exhibit-4/
LOCATION:COFF33\, 20 Wilcox St Ste 111c\, Castle Rock\, CO\, 80104\, United States
CATEGORIES:Art Show
ATTACH;FMTTYPE=image/jpeg:https://castlerockartistalliance.com/wp-content/uploads/2024/02/2023-03-15.jpg
END:VEVENT
BEGIN:VEVENT
DTSTART;VALUE=DATE:20240601
DTEND;VALUE=DATE:20240728
DTSTAMP:20260423T092612
CREATED:20240220T054158Z
LAST-MODIFIED:20240625T155048Z
UID:22570-1717200000-1722124799@castlerockartistalliance.com
SUMMARY:Castle Rocks Jewelry Artist Exhibit
DESCRIPTION:CRAA presents  Artist Walt Beringson \n 
URL:https://castlerockartistalliance.com/event/castle-rocks-jewelry-artist-exhibit/
LOCATION:Castle Rocks & Jewelry\, Limelight Ave Unit C\, CO\, 80109\, United States
CATEGORIES:Art Show
ATTACH;FMTTYPE=image/jpeg:https://castlerockartistalliance.com/wp-content/uploads/2024/02/2023-04-15-1-1.jpg
ORGANIZER;CN="CRAA Exhibits Cindy Eberly":MAILTO:cindyeberlycraaexhibits@gmail.com
END:VEVENT
BEGIN:VEVENT
DTSTART;VALUE=DATE:20240720
DTEND;VALUE=DATE:20240922
DTSTAMP:20260423T092612
CREATED:20240229T221455Z
LAST-MODIFIED:20240710T213914Z
UID:23158-1721433600-1726963199@castlerockartistalliance.com
SUMMARY:Sinners & Saints Art Exhibit
DESCRIPTION:CRAA Presents Featured Artists Evette Goldstein & Mauri Powell \n 
URL:https://castlerockartistalliance.com/event/sinners-saints-art-exhibit/
LOCATION:Sinner & Saints in Ecclesia\, 221 Perry Street\, Castle Rock\, CO\, 80104\, United States
ATTACH;FMTTYPE=image/jpeg:https://castlerockartistalliance.com/wp-content/uploads/2024/02/2023-05-21.jpg
ORGANIZER;CN="Castle Rock Artist Alliance":MAILTO:cindyeberlycraaexhibits@gmail.com
END:VEVENT
BEGIN:VEVENT
DTSTART;VALUE=DATE:20240727
DTEND;VALUE=DATE:20240929
DTSTAMP:20260423T092612
CREATED:20240229T222455Z
LAST-MODIFIED:20240425T014241Z
UID:23162-1722038400-1727567999@castlerockartistalliance.com
SUMMARY:COFF33 Art Exhibit
DESCRIPTION:CRAA Presents Featured Artist Parke Covarrubias
URL:https://castlerockartistalliance.com/event/coff33-art-exhibit/
ATTACH;FMTTYPE=image/jpeg:https://castlerockartistalliance.com/wp-content/uploads/2024/02/2023-03-15.jpg
END:VEVENT
BEGIN:VEVENT
DTSTART;VALUE=DATE:20240727
DTEND;VALUE=DATE:20240929
DTSTAMP:20260423T092612
CREATED:20240229T222849Z
LAST-MODIFIED:20240625T231620Z
UID:23164-1722038400-1727567999@castlerockartistalliance.com
SUMMARY:Castle Rocks & Jewelry Art Exhibit
DESCRIPTION:CRAA Presents Featured Artist Maureen Palazzolo
URL:https://castlerockartistalliance.com/event/castle-rocks-jewelry-art-exhibit/
LOCATION:Castle Rocks & Jewelry\, Limelight Ave Unit C\, CO\, 80109\, United States
ATTACH;FMTTYPE=image/jpeg:https://castlerockartistalliance.com/wp-content/uploads/2024/02/DDB89EFC-80AF-4F93-9623-458200CBD830-1.jpeg
ORGANIZER;CN="Castle Rock Artist Alliance":MAILTO:cindyeberlycraaexhibits@gmail.com
END:VEVENT
END:VCALENDAR