BEGIN:VCALENDAR
VERSION:2.0
PRODID:-//Castle Rock Artist Alliance - ECPv6.15.20//NONSGML v1.0//EN
CALSCALE:GREGORIAN
METHOD:PUBLISH
X-WR-CALNAME:Castle Rock Artist Alliance
X-ORIGINAL-URL:https://castlerockartistalliance.com
X-WR-CALDESC:Events for Castle Rock Artist Alliance
REFRESH-INTERVAL;VALUE=DURATION:PT1H
X-Robots-Tag:noindex
X-PUBLISHED-TTL:PT1H
BEGIN:VTIMEZONE
TZID:UTC
BEGIN:STANDARD
TZOFFSETFROM:+0000
TZOFFSETTO:+0000
TZNAME:UTC
DTSTART:20230101T000000
END:STANDARD
END:VTIMEZONE
BEGIN:VTIMEZONE
TZID:America/Denver
BEGIN:DAYLIGHT
TZOFFSETFROM:-0700
TZOFFSETTO:-0600
TZNAME:MDT
DTSTART:20230312T090000
END:DAYLIGHT
BEGIN:STANDARD
TZOFFSETFROM:-0600
TZOFFSETTO:-0700
TZNAME:MST
DTSTART:20231105T080000
END:STANDARD
BEGIN:DAYLIGHT
TZOFFSETFROM:-0700
TZOFFSETTO:-0600
TZNAME:MDT
DTSTART:20240310T090000
END:DAYLIGHT
BEGIN:STANDARD
TZOFFSETFROM:-0600
TZOFFSETTO:-0700
TZNAME:MST
DTSTART:20241103T080000
END:STANDARD
BEGIN:DAYLIGHT
TZOFFSETFROM:-0700
TZOFFSETTO:-0600
TZNAME:MDT
DTSTART:20250309T090000
END:DAYLIGHT
BEGIN:STANDARD
TZOFFSETFROM:-0600
TZOFFSETTO:-0700
TZNAME:MST
DTSTART:20251102T080000
END:STANDARD
END:VTIMEZONE
BEGIN:VEVENT
DTSTART;VALUE=DATE:20240330
DTEND;VALUE=DATE:20240602
DTSTAMP:20260423T230301
CREATED:20240219T120938Z
LAST-MODIFIED:20240329T212834Z
UID:22514-1711756800-1717286399@castlerockartistalliance.com
SUMMARY:Castle Rocks &  Jewelry Artist Exhibit
DESCRIPTION:CRAA Artist Exhibit \nFeatured Artist Michael Malta. Michael’s website is www.michaelmaltastudio.com.
URL:https://castlerockartistalliance.com/event/artist-exhibit/
LOCATION:Castle Rocks & Jewelry\, Limelight Ave Unit C\, CO\, 80109\, United States
CATEGORIES:Art Show
ATTACH;FMTTYPE=image/jpeg:https://castlerockartistalliance.com/wp-content/uploads/2024/02/IMG_2639-1.jpg
ORGANIZER;CN="CRAA Exhibits Cindy Eberly":MAILTO:cindyeberlycraaexhibits@gmail.com
END:VEVENT
BEGIN:VEVENT
DTSTART;VALUE=DATE:20240511
DTEND;VALUE=DATE:20240714
DTSTAMP:20260423T230301
CREATED:20240219T121631Z
LAST-MODIFIED:20240514T021341Z
UID:22517-1715385600-1720915199@castlerockartistalliance.com
SUMMARY:Union American Bistro Artist Exhibit
DESCRIPTION:CRAA Presents featured Artists Carol Gori\, Pam Cramer\, Jerry Thompson \n \n 
URL:https://castlerockartistalliance.com/event/artist-exhibit-2/
LOCATION:Union American Bistro\, 3 S. Wilcox Street\, Castle Rock\, CO\, 80104\, United States
CATEGORIES:Art Show
ATTACH;FMTTYPE=image/jpeg:https://castlerockartistalliance.com/wp-content/uploads/2024/02/2023-02-25-2.jpg
ORGANIZER;CN="CRAA Exhibits Cindy Eberly":MAILTO:cindyeberlycraaexhibits@gmail.com
END:VEVENT
BEGIN:VEVENT
DTSTART;VALUE=DATE:20240518
DTEND;VALUE=DATE:20240721
DTSTAMP:20260423T230301
CREATED:20240220T002057Z
LAST-MODIFIED:20240514T021000Z
UID:22529-1715990400-1721519999@castlerockartistalliance.com
SUMMARY:Sinners & Saints Artist Exhibit
DESCRIPTION:CRAA presents featured Artists Carrie Martin   Kimberly Abbs \n  \n 
URL:https://castlerockartistalliance.com/event/artist-exhibit-3/
LOCATION:Sinners & Saints at Ecclesia
CATEGORIES:Art Show
ATTACH;FMTTYPE=image/jpeg:https://castlerockartistalliance.com/wp-content/uploads/2024/02/2021-04-12.jpg
END:VEVENT
BEGIN:VEVENT
DTSTART;VALUE=DATE:20240518
DTEND;VALUE=DATE:20240728
DTSTAMP:20260423T230301
CREATED:20240220T002454Z
LAST-MODIFIED:20240412T215633Z
UID:22531-1715990400-1722124799@castlerockartistalliance.com
SUMMARY:COFF33 Artist Exhibit
DESCRIPTION:CRAA presents featured Artist Julia Waters \n  \n 
URL:https://castlerockartistalliance.com/event/artist-exhibit-4/
LOCATION:COFF33\, 20 Wilcox St Ste 111c\, Castle Rock\, CO\, 80104\, United States
CATEGORIES:Art Show
ATTACH;FMTTYPE=image/jpeg:https://castlerockartistalliance.com/wp-content/uploads/2024/02/2023-03-15.jpg
END:VEVENT
BEGIN:VEVENT
DTSTART;VALUE=DATE:20240601
DTEND;VALUE=DATE:20240728
DTSTAMP:20260423T230301
CREATED:20240220T054158Z
LAST-MODIFIED:20240625T155048Z
UID:22570-1717200000-1722124799@castlerockartistalliance.com
SUMMARY:Castle Rocks Jewelry Artist Exhibit
DESCRIPTION:CRAA presents  Artist Walt Beringson \n 
URL:https://castlerockartistalliance.com/event/castle-rocks-jewelry-artist-exhibit/
LOCATION:Castle Rocks & Jewelry\, Limelight Ave Unit C\, CO\, 80109\, United States
CATEGORIES:Art Show
ATTACH;FMTTYPE=image/jpeg:https://castlerockartistalliance.com/wp-content/uploads/2024/02/2023-04-15-1-1.jpg
ORGANIZER;CN="CRAA Exhibits Cindy Eberly":MAILTO:cindyeberlycraaexhibits@gmail.com
END:VEVENT
BEGIN:VEVENT
DTSTART;TZID=America/Denver:20240601T100000
DTEND;TZID=America/Denver:20240601T130000
DTSTAMP:20260423T230301
CREATED:20240425T014642Z
LAST-MODIFIED:20240425T214651Z
UID:23871-1717236000-1717246800@castlerockartistalliance.com
SUMMARY:Veterans Art Therapy Class
DESCRIPTION:Currently accepting students. \nInstructor Carrie Martin
URL:https://castlerockartistalliance.com/event/veterans-art-therapy-class-4/
LOCATION:Christ’s Episcopal Church\, 615 Fourth Street\, Castle Rock\, CO\, 80104
ATTACH;FMTTYPE=application/pdf:https://castlerockartistalliance.com/wp-content/uploads/2024/04/VAT-SMG-3.pdf
ORGANIZER;CN="Castle Rock Artist Alliance":MAILTO:cindyeberlycraaexhibits@gmail.com
END:VEVENT
BEGIN:VEVENT
DTSTART;TZID=America/Denver:20240604T080000
DTEND;TZID=America/Denver:20240604T170000
DTSTAMP:20260423T230301
CREATED:20240602T204939Z
LAST-MODIFIED:20240602T204939Z
UID:24095-1717488000-1717520400@castlerockartistalliance.com
SUMMARY:Test event
DESCRIPTION:This is a test event.
URL:https://castlerockartistalliance.com/event/test-event/
ATTACH;FMTTYPE=image/png:https://castlerockartistalliance.com/wp-content/uploads/2024/02/Screen-Shot-2024-02-24-at-10.43.53-AM.png
END:VEVENT
BEGIN:VEVENT
DTSTART;TZID=America/Denver:20240604T170000
DTEND;TZID=America/Denver:20240604T183000
DTSTAMP:20260423T230301
CREATED:20240517T155915Z
LAST-MODIFIED:20240529T211027Z
UID:24044-1717520400-1717525800@castlerockartistalliance.com
SUMMARY:CR Art Alliance all members meeting   Castle Rock Library
DESCRIPTION:Lots of Information to share and your opportunity to share news ideas. Bring a piece of your art!
URL:https://castlerockartistalliance.com/event/cr-art-alliance-all-members-meeting-castle-rock-library/
LOCATION:Castle Rock Library Conference rooms C & D
ATTACH;FMTTYPE=image/jpeg:https://castlerockartistalliance.com/wp-content/uploads/2024/05/Artist-Reception-25-1.jpeg
ORGANIZER;CN="Castle Rock Artist Alliance":MAILTO:cindyeberlycraaexhibits@gmail.com
END:VEVENT
BEGIN:VEVENT
DTSTART;TZID=America/Denver:20240606T170000
DTEND;TZID=America/Denver:20240606T190000
DTSTAMP:20260423T230301
CREATED:20240228T224957Z
LAST-MODIFIED:20240531T033912Z
UID:23062-1717693200-1717700400@castlerockartistalliance.com
SUMMARY:Artists Happy Hour at Sinners & Saints
DESCRIPTION:Come shop for unique local art and meet the Artists for Happy Hour!  Current exhibit artists Carrie Martin and Kimberly Abbs will be there to meet and greet.
URL:https://castlerockartistalliance.com/event/artist-reception-at-sinners-saints-2/
LOCATION:Sinner & Saints in Ecclesia\, 221 Perry Street\, Castle Rock\, CO\, 80104\, United States
ATTACH;FMTTYPE=image/png:https://castlerockartistalliance.com/wp-content/uploads/2024/01/Screen-Shot-2024-01-28-at-10.19.18-PM-e1717126630611.png
ORGANIZER;CN="Castle Rock Artist Alliance":MAILTO:cindyeberlycraaexhibits@gmail.com
END:VEVENT
BEGIN:VEVENT
DTSTART;TZID=America/Denver:20240608T100000
DTEND;TZID=America/Denver:20240608T130000
DTSTAMP:20260423T230301
CREATED:20240425T010553Z
LAST-MODIFIED:20240425T214421Z
UID:23865-1717840800-1717851600@castlerockartistalliance.com
SUMMARY:Veterans Art Therapy Class
DESCRIPTION:Currently accepting students. \nInstructor Carrie Martin
URL:https://castlerockartistalliance.com/event/veterans-art-therapy-class-3/
LOCATION:Christ’s Episcopal Church\, 615 Fourth Street\, Castle Rock\, CO\, 80104
ATTACH;FMTTYPE=application/pdf:https://castlerockartistalliance.com/wp-content/uploads/2024/04/VAT-SMG-2.pdf
ORGANIZER;CN="Castle Rock Artist Alliance":MAILTO:cindyeberlycraaexhibits@gmail.com
END:VEVENT
BEGIN:VEVENT
DTSTART;TZID=America/Denver:20240613T160000
DTEND;TZID=America/Denver:20240613T180000
DTSTAMP:20260423T230301
CREATED:20240514T022642Z
LAST-MODIFIED:20240531T032219Z
UID:24036-1718294400-1718301600@castlerockartistalliance.com
SUMMARY:Exhibiting Local Artists Happy Hour!
DESCRIPTION:Come shop for unique local art and meet the Artists for Happy Hour!  Current exhibit artists Carol Gori\, Pam Kramer & Jerry Thompson will be there to meet and greet. \n  \n 
URL:https://castlerockartistalliance.com/event/union-bistro-featured-artists-reception/
LOCATION:Union American Bistro\, 3 S. Wilcox Street\, Castle Rock\, CO\, 80104\, United States
ATTACH;FMTTYPE=image/jpeg:https://castlerockartistalliance.com/wp-content/uploads/2024/01/Union.jpg
END:VEVENT
BEGIN:VEVENT
DTSTART;TZID=America/Denver:20240615T110000
DTEND;TZID=America/Denver:20240615T160000
DTSTAMP:20260423T230301
CREATED:20240320T004206Z
LAST-MODIFIED:20240529T210140Z
UID:23552-1718449200-1718467200@castlerockartistalliance.com
SUMMARY:CRAA  Presents Pop UP/Traveling Gallery Art Sale at Union American Bistro
DESCRIPTION:A Pop Up Art Sale
URL:https://castlerockartistalliance.com/event/craa-art-presents-traveling-gallery-art-sale-at-union-american-bistro/
LOCATION:Union American Bistro\, 3 S. Wilcox Street\, Castle Rock\, CO\, 80104\, United States
ATTACH;FMTTYPE=image/jpeg:https://castlerockartistalliance.com/wp-content/uploads/2024/03/804C1DE7-58AB-4326-B5B3-CF1E0E51989D.jpg
END:VEVENT
BEGIN:VEVENT
DTSTART;TZID=America/Denver:20240622T090000
DTEND;TZID=America/Denver:20240622T130000
DTSTAMP:20260423T230301
CREATED:20240412T200538Z
LAST-MODIFIED:20240529T214924Z
UID:23816-1719046800-1719061200@castlerockartistalliance.com
SUMMARY:CRAA presents a Pop Up/Traveling Gallery Art Sale
DESCRIPTION:
URL:https://castlerockartistalliance.com/event/craa-presents-a-pop-up-traveling-gallery-art-sale/
LOCATION:COFF33\, 20 Wilcox St Ste 111c\, Castle Rock\, CO\, 80104\, United States
ATTACH;FMTTYPE=image/jpeg:https://castlerockartistalliance.com/wp-content/uploads/2024/03/4B05E939-7925-494E-9340-1E6C75265B0F.jpg
END:VEVENT
BEGIN:VEVENT
DTSTART;TZID=America/Denver:20240627T163000
DTEND;TZID=America/Denver:20240627T180000
DTSTAMP:20260423T230301
CREATED:20240307T172857Z
LAST-MODIFIED:20240307T172857Z
UID:23375-1719505800-1719511200@castlerockartistalliance.com
SUMMARY:CRAA Board meeting
DESCRIPTION:
URL:https://castlerockartistalliance.com/event/craa-board-meeting/
LOCATION:Castle Rock Library\, Conference Room F\, 100 S. Wilcox St\, Castle Rock\, CO\, 80104\, United States
END:VEVENT
END:VCALENDAR