BEGIN:VCALENDAR
VERSION:2.0
PRODID:-//Castle Rock Artist Alliance - ECPv6.15.20//NONSGML v1.0//EN
CALSCALE:GREGORIAN
METHOD:PUBLISH
X-ORIGINAL-URL:https://castlerockartistalliance.com
X-WR-CALDESC:Events for Castle Rock Artist Alliance
REFRESH-INTERVAL;VALUE=DURATION:PT1H
X-Robots-Tag:noindex
X-PUBLISHED-TTL:PT1H
BEGIN:VTIMEZONE
TZID:America/Denver
BEGIN:DAYLIGHT
TZOFFSETFROM:-0700
TZOFFSETTO:-0600
TZNAME:MDT
DTSTART:20250309T090000
END:DAYLIGHT
BEGIN:STANDARD
TZOFFSETFROM:-0600
TZOFFSETTO:-0700
TZNAME:MST
DTSTART:20251102T080000
END:STANDARD
BEGIN:DAYLIGHT
TZOFFSETFROM:-0700
TZOFFSETTO:-0600
TZNAME:MDT
DTSTART:20260308T090000
END:DAYLIGHT
BEGIN:STANDARD
TZOFFSETFROM:-0600
TZOFFSETTO:-0700
TZNAME:MST
DTSTART:20261101T080000
END:STANDARD
BEGIN:DAYLIGHT
TZOFFSETFROM:-0700
TZOFFSETTO:-0600
TZNAME:MDT
DTSTART:20270314T090000
END:DAYLIGHT
BEGIN:STANDARD
TZOFFSETFROM:-0600
TZOFFSETTO:-0700
TZNAME:MST
DTSTART:20271107T080000
END:STANDARD
BEGIN:DAYLIGHT
TZOFFSETFROM:-0700
TZOFFSETTO:-0600
TZNAME:MDT
DTSTART:20280312T090000
END:DAYLIGHT
BEGIN:STANDARD
TZOFFSETFROM:-0600
TZOFFSETTO:-0700
TZNAME:MST
DTSTART:20281105T080000
END:STANDARD
BEGIN:DAYLIGHT
TZOFFSETFROM:-0700
TZOFFSETTO:-0600
TZNAME:MDT
DTSTART:20290311T090000
END:DAYLIGHT
BEGIN:STANDARD
TZOFFSETFROM:-0600
TZOFFSETTO:-0700
TZNAME:MST
DTSTART:20291104T080000
END:STANDARD
END:VTIMEZONE
BEGIN:VEVENT
DTSTART;TZID=America/Denver:20260606T090000
DTEND;TZID=America/Denver:20260801T170000
DTSTAMP:20260421T211246
CREATED:20260113T204819Z
LAST-MODIFIED:20260218T061345Z
UID:26612-1780736400-1785603600@castlerockartistalliance.com
SUMMARY:Art Exhibit at Castle Rocks & Jewelry featuring Artist Walt Beringson
DESCRIPTION:Presented by Castle Rock Artist Alliance \nAll artwork is available for purchase
URL:https://castlerockartistalliance.com/event/castle-rocks-jewelry-june/
LOCATION:Castle Rocks & Jewelry\, Limelight Ave Unit C\, CO\, 80109\, United States
END:VEVENT
BEGIN:VEVENT
DTSTART;TZID=America/Denver:20260620T080000
DTEND;TZID=America/Denver:20260815T170000
DTSTAMP:20260421T211246
CREATED:20260113T212713Z
LAST-MODIFIED:20260422T023843Z
UID:26627-1781942400-1786813200@castlerockartistalliance.com
SUMMARY:CRAA  Student Art Exhibit at COFF33
DESCRIPTION:Castle Rock Artist Alliance Special Event \nWelcome Art Students! \nPlease sign up using the RSVP below. Be sure to fill out the artist application form attached to your confirmation. \n 
URL:https://castlerockartistalliance.com/event/art-exhibit-coff33/
LOCATION:COFF33\, 20 Wilcox St Ste 111c\, Castle Rock\, CO\, 80104\, United States
ORGANIZER;CN="CRAA Exhibits Cindy Eberly":MAILTO:cindyeberlycraaexhibits@gmail.com
END:VEVENT
BEGIN:VEVENT
DTSTART;TZID=America/Denver:20260725T090000
DTEND;TZID=America/Denver:20260919T170000
DTSTAMP:20260421T211246
CREATED:20260113T204117Z
LAST-MODIFIED:20260225T032108Z
UID:26609-1784970000-1789837200@castlerockartistalliance.com
SUMMARY:Sinners & Saints Art Exhibit featuring Barb Villani & Lisa Huffman
DESCRIPTION:Two Artists will exhibit their work \nPresented by Castle Rock Artist Alliance \nAll artwork is available for purchase.
URL:https://castlerockartistalliance.com/event/sinners-saints-art-exhibit-2/
LOCATION:Sinner & Saints in Ecclesia\, 221 Perry Street\, Castle Rock\, CO\, 80104\, United States
END:VEVENT
BEGIN:VEVENT
DTSTART;TZID=America/Denver:20260801T080000
DTEND;TZID=America/Denver:20260926T170000
DTSTAMP:20260421T211246
CREATED:20260206T002804Z
LAST-MODIFIED:20260206T004725Z
UID:26783-1785571200-1790442000@castlerockartistalliance.com
SUMMARY:Art Exhibit at Castle Rocks & Jewelry
DESCRIPTION:Presented by Castle Rock Artist Alliance \n1 Artist will showcase their work \nAll artwork is for sale\, purchase your next piece of beautiful art!
URL:https://castlerockartistalliance.com/event/artist-exhibit-at-castle-rocks-jewelry/
LOCATION:Castle Rocks & Jewelry\, Limelight Ave Unit C\, CO\, 80109\, United States
END:VEVENT
BEGIN:VEVENT
DTSTART;TZID=America/Denver:20260815T080000
DTEND;TZID=America/Denver:20261010T170000
DTSTAMP:20260421T211246
CREATED:20260113T205236Z
LAST-MODIFIED:20260202T193428Z
UID:26615-1786780800-1791651600@castlerockartistalliance.com
SUMMARY:Art Exhibit at COFF33 featuring Artist Carol King
DESCRIPTION:Art exhibit presented  by Castle Rock Artist Alliance\, showcasing  the beautiful art of artist Carol King.
URL:https://castlerockartistalliance.com/event/art-exhibit-at-coff33-2/
LOCATION:COFF33\, 20 Wilcox St Ste 111c\, Castle Rock\, CO\, 80104\, United States
ORGANIZER;CN="CRAA Exhibits Cindy Eberly":MAILTO:cindyeberlycraaexhibits@gmail.com
END:VEVENT
BEGIN:VEVENT
DTSTART;TZID=America/Denver:20260912T083000
DTEND;TZID=America/Denver:20261107T170000
DTSTAMP:20260421T211246
CREATED:20260113T205943Z
LAST-MODIFIED:20260218T062128Z
UID:26618-1789201800-1794070800@castlerockartistalliance.com
SUMMARY:Art Exhibit at Union American Bistro  featuring Darcy Fisher & Walt Beringson
DESCRIPTION:Presented by Castle Rock Artist Alliance
URL:https://castlerockartistalliance.com/event/art-exhibit-union-american-bistro/
LOCATION:Union American Bistro\, 3 S. Wilcox Street\, Castle Rock\, CO\, 80104\, United States
END:VEVENT
BEGIN:VEVENT
DTSTART;TZID=America/Denver:20260919T090000
DTEND;TZID=America/Denver:20261114T170000
DTSTAMP:20260421T211246
CREATED:20260113T210430Z
LAST-MODIFIED:20260304T001856Z
UID:26621-1789808400-1794675600@castlerockartistalliance.com
SUMMARY:Art Exhibit Sinners & Saints featuring Artist Henry Stewart
DESCRIPTION:2 Artists will  show their Art \nPresented by Castle Rock Artist Alliance
URL:https://castlerockartistalliance.com/event/art-exhibit-sinners-saints/
LOCATION:Sinner & Saints in Ecclesia\, 221 Perry Street\, Castle Rock\, CO\, 80104\, United States
ORGANIZER;CN="CRAA Exhibits Cindy Eberly":MAILTO:cindyeberlycraaexhibits@gmail.com
END:VEVENT
BEGIN:VEVENT
DTSTART;TZID=America/Denver:20260926T090000
DTEND;TZID=America/Denver:20261121T170000
DTSTAMP:20260421T211246
CREATED:20260113T210932Z
LAST-MODIFIED:20260113T212117Z
UID:26624-1790413200-1795280400@castlerockartistalliance.com
SUMMARY:Art Exhibit Castle Rocks & Jewelry
DESCRIPTION:1 Artist will show their Art
URL:https://castlerockartistalliance.com/event/art-exhibit-castle-rocks-jewelry-2/
LOCATION:Castle Rocks & Jewelry\, Limelight Ave Unit C\, CO\, 80109\, United States
ORGANIZER;CN="CRAA Exhibits Cindy Eberly":MAILTO:cindyeberlycraaexhibits@gmail.com
END:VEVENT
BEGIN:VEVENT
DTSTART;TZID=America/Denver:20261010T080000
DTEND;TZID=America/Denver:20261205T170000
DTSTAMP:20260421T211246
CREATED:20260301T201840Z
LAST-MODIFIED:20260301T201840Z
UID:27107-1791619200-1796490000@castlerockartistalliance.com
SUMMARY:Art Exhibit at COFF33 October 10- Dec 5
DESCRIPTION:1 Artist will display their work \nAll art is available for purchase \nPresented by Castle Rock Artist Alliance
URL:https://castlerockartistalliance.com/event/art-exhibit-at-coff33-october-10-dec-5/
LOCATION:COFF33\, 20 Wilcox St Ste 111c\, Castle Rock\, CO\, 80104\, United States
END:VEVENT
BEGIN:VEVENT
DTSTART;TZID=America/Denver:20261107T080000
DTEND;TZID=America/Denver:20280108T170000
DTSTAMP:20260421T211246
CREATED:20260302T011333Z
LAST-MODIFIED:20260416T214355Z
UID:27110-1794038400-1830963600@castlerockartistalliance.com
SUMMARY:Art Exhibit at Union Bistro featuring artists Lisa Huffman & Henry Stewart
DESCRIPTION:Two Artists will exhibit their work. \nAll artwork is available for purchase \nPresented by Castle Rock Artist Alliance
URL:https://castlerockartistalliance.com/event/art-exhibit-at-union-bistro-nov-7-jan-8/
LOCATION:CO
END:VEVENT
END:VCALENDAR