BEGIN:VCALENDAR
VERSION:2.0
PRODID:-//Castle Rock Artist Alliance - ECPv6.15.20//NONSGML v1.0//EN
CALSCALE:GREGORIAN
METHOD:PUBLISH
X-WR-CALNAME:Castle Rock Artist Alliance
X-ORIGINAL-URL:https://castlerockartistalliance.com
X-WR-CALDESC:Events for Castle Rock Artist Alliance
REFRESH-INTERVAL;VALUE=DURATION:PT1H
X-Robots-Tag:noindex
X-PUBLISHED-TTL:PT1H
BEGIN:VTIMEZONE
TZID:America/Denver
BEGIN:DAYLIGHT
TZOFFSETFROM:-0700
TZOFFSETTO:-0600
TZNAME:MDT
DTSTART:20230312T090000
END:DAYLIGHT
BEGIN:STANDARD
TZOFFSETFROM:-0600
TZOFFSETTO:-0700
TZNAME:MST
DTSTART:20231105T080000
END:STANDARD
BEGIN:DAYLIGHT
TZOFFSETFROM:-0700
TZOFFSETTO:-0600
TZNAME:MDT
DTSTART:20240310T090000
END:DAYLIGHT
BEGIN:STANDARD
TZOFFSETFROM:-0600
TZOFFSETTO:-0700
TZNAME:MST
DTSTART:20241103T080000
END:STANDARD
BEGIN:DAYLIGHT
TZOFFSETFROM:-0700
TZOFFSETTO:-0600
TZNAME:MDT
DTSTART:20250309T090000
END:DAYLIGHT
BEGIN:STANDARD
TZOFFSETFROM:-0600
TZOFFSETTO:-0700
TZNAME:MST
DTSTART:20251102T080000
END:STANDARD
END:VTIMEZONE
BEGIN:VTIMEZONE
TZID:UTC
BEGIN:STANDARD
TZOFFSETFROM:+0000
TZOFFSETTO:+0000
TZNAME:UTC
DTSTART:20230101T000000
END:STANDARD
END:VTIMEZONE
BEGIN:VEVENT
DTSTART;TZID=America/Denver:20240413T180000
DTEND;TZID=America/Denver:20240413T213000
DTSTAMP:20260424T180126
CREATED:20240329T183831Z
LAST-MODIFIED:20240329T185443Z
UID:23658-1713031200-1713043800@castlerockartistalliance.com
SUMMARY:Castle Rock Film Festival
DESCRIPTION:
URL:https://castlerockartistalliance.com/event/castle-rock-film-festival-3/
LOCATION:Theatre of Dreams\, 735 Park St\, Castle Rock\, CO
ATTACH;FMTTYPE=image/png:https://castlerockartistalliance.com/wp-content/uploads/2024/03/crff24-saturday-night-1-1.png
END:VEVENT
BEGIN:VEVENT
DTSTART;TZID=America/Denver:20240413T150000
DTEND;TZID=America/Denver:20240413T173000
DTSTAMP:20260424T180126
CREATED:20240329T184023Z
LAST-MODIFIED:20240329T184733Z
UID:23661-1713020400-1713029400@castlerockartistalliance.com
SUMMARY:Castle Rock Film Festival
DESCRIPTION:
URL:https://castlerockartistalliance.com/event/castle-rock-film-festival-4/
LOCATION:Theatre of Dreams\, 735 Park St\, Castle Rock\, CO
ATTACH;FMTTYPE=image/png:https://castlerockartistalliance.com/wp-content/uploads/2024/03/crff24-matinee.png
END:VEVENT
BEGIN:VEVENT
DTSTART;TZID=America/Denver:20240412T180000
DTEND;TZID=America/Denver:20240412T213000
DTSTAMP:20260424T180126
CREATED:20240329T183244Z
LAST-MODIFIED:20240329T183540Z
UID:23655-1712944800-1712957400@castlerockartistalliance.com
SUMMARY:Castle Rock Film Festival
DESCRIPTION:
URL:https://castlerockartistalliance.com/event/castle-rock-film-festival-2/
ATTACH;FMTTYPE=image/png:https://castlerockartistalliance.com/wp-content/uploads/2024/03/crff24-friday.png
END:VEVENT
BEGIN:VEVENT
DTSTART;TZID=America/Denver:20240411T180000
DTEND;TZID=America/Denver:20240411T203000
DTSTAMP:20260424T180126
CREATED:20240329T182724Z
LAST-MODIFIED:20240329T190052Z
UID:23652-1712858400-1712867400@castlerockartistalliance.com
SUMMARY:Castle Rock Film Festival Vip Event
DESCRIPTION:
URL:https://castlerockartistalliance.com/event/castle-rock-film-festival-vip-event/
LOCATION:Theatre of Dreams\, 735 Park St\, Castle Rock\, CO
ATTACH;FMTTYPE=image/png:https://castlerockartistalliance.com/wp-content/uploads/2024/03/crff24-thursday-1.png
ORGANIZER;CN="Castle Rock Artist Alliance":MAILTO:cindyeberlycraaexhibits@gmail.com
END:VEVENT
BEGIN:VEVENT
DTSTART;VALUE=DATE:20240411
DTEND;VALUE=DATE:20240414
DTSTAMP:20260424T180126
CREATED:20240229T215243Z
LAST-MODIFIED:20240302T213837Z
UID:23149-1712793600-1713052799@castlerockartistalliance.com
SUMMARY:Castle Rock Film Festival
DESCRIPTION:Tickets Now on sale! \n  \nApril 11 VIP Event of Invited guests 6-9pm \n  \nApril 12 Short films & Experimental Films 6-9pm \n  \nApril 13 Best of show Matinee 3-5pm \n  \nApril 13 Documentaries and Music Videos 6-9pm
URL:https://castlerockartistalliance.com/event/castle-rock-film-festival/
LOCATION:Theatre of Dreams\, 735 Park St\, Castle Rock\, CO
ATTACH;FMTTYPE=image/jpeg:https://castlerockartistalliance.com/wp-content/uploads/2024/02/unnamed.jpg
ORGANIZER;CN="Castle Rock Artist Alliance":MAILTO:cindyeberlycraaexhibits@gmail.com
END:VEVENT
BEGIN:VEVENT
DTSTART;TZID=America/Denver:20240405T180000
DTEND;TZID=America/Denver:20240405T200000
DTSTAMP:20260424T180126
CREATED:20240329T190844Z
LAST-MODIFIED:20240401T184202Z
UID:23669-1712340000-1712347200@castlerockartistalliance.com
SUMMARY:Spring Splash Reception 6pm-8pm Tri-Lakes Center for the arts
DESCRIPTION:This event is Open to the Public!  Exhibit Artists and their guests\, All CRAA artists and guests are welcome.
URL:https://castlerockartistalliance.com/event/spring-splash-reception-6pm-8pm-tri-lakes-center-for-the-arts/
LOCATION:Tri-Lakes Center For The Arts\, 304CO-105\, Palmer Lake\, CO\, United States
ATTACH;FMTTYPE=image/jpeg:https://castlerockartistalliance.com/wp-content/uploads/2024/03/th.jpg
END:VEVENT
BEGIN:VEVENT
DTSTART;TZID=America/Denver:20240404T170000
DTEND;TZID=America/Denver:20240404T190000
DTSTAMP:20260424T180126
CREATED:20240311T195156Z
LAST-MODIFIED:20240329T182237Z
UID:23499-1712250000-1712257200@castlerockartistalliance.com
SUMMARY:Artist Reception at Sinner & Saints featured artists Lynn Hurley & Carrie Martin
DESCRIPTION:Arist Lynn Hurley \n  \n  \nArtist Carrie Martin \n  \n \n 
URL:https://castlerockartistalliance.com/event/artist-reception-sinner-saints/
LOCATION:Sinner & Saints in Ecclesia\, 221 Perry Street\, Castle Rock\, CO\, 80104\, United States
ATTACH;FMTTYPE=image/jpeg:https://castlerockartistalliance.com/wp-content/uploads/2024/02/2021-04-12.jpg
ORGANIZER;CN="Castle Rock Artist Alliance":MAILTO:cindyeberlycraaexhibits@gmail.com
END:VEVENT
BEGIN:VEVENT
DTSTART;TZID=America/Denver:20240321T160000
DTEND;TZID=America/Denver:20240321T180000
DTSTAMP:20260424T180126
CREATED:20240228T214800Z
LAST-MODIFIED:20240229T185554Z
UID:23044-1711036800-1711044000@castlerockartistalliance.com
SUMMARY:Artist Reception At Union American bistro
DESCRIPTION:Artist Becky Yeomans \nArtist Terry McDermott \nWorks by Artist Kari Schaff
URL:https://castlerockartistalliance.com/event/join-us-for-an-artist-reception/
ATTACH;FMTTYPE=image/jpeg:https://castlerockartistalliance.com/wp-content/uploads/2024/02/2022-09-30-1.jpg
ORGANIZER;CN="Castle Rock Artist Alliance":MAILTO:cindyeberlycraaexhibits@gmail.com
END:VEVENT
BEGIN:VEVENT
DTSTART;TZID=UTC:20240320T170000
DTEND;TZID=UTC:20240320T183000
DTSTAMP:20260424T180126
CREATED:20240220T044653Z
LAST-MODIFIED:20240311T210043Z
UID:22563-1710954000-1710959400@castlerockartistalliance.com
SUMMARY:CRAA Members meeting
DESCRIPTION:Castle Rock Artist Alliance all members meeting. The program for this meeting will be Dana Frazee speaking about the Scientific and Cultural Facilities District (SCFD Special Tax Funding)\, and the Artist Showcase will be artist Michael Maita\, sharing and speaking about his work.  His website is www.michaelmaltastudio.com if you would like to see some of his work prior to the meeting.
URL:https://castlerockartistalliance.com/event/craa-members-meeting/
LOCATION:Castle Rock Library\, Conference Room F\, 100 S. Wilcox St\, Castle Rock\, CO\, 80104\, United States
ATTACH;FMTTYPE=image/jpeg:https://castlerockartistalliance.com/wp-content/uploads/2024/02/DSC_2369-3200-1.jpg
ORGANIZER;CN="Castle Rock Artist Alliance":MAILTO:cindyeberlycraaexhibits@gmail.com
END:VEVENT
BEGIN:VEVENT
DTSTART;VALUE=DATE:20240301
DTEND;VALUE=DATE:20240402
DTSTAMP:20260424T180126
CREATED:20240229T202217Z
LAST-MODIFIED:20240316T021628Z
UID:23115-1709251200-1712015999@castlerockartistalliance.com
SUMMARY:Castle Rock Film Festival Tickets on sale now!
DESCRIPTION:Click here for link to purchase tickets. \nEvent Dates 4/11-4/13 \n 
URL:https://castlerockartistalliance.com/event/castle-rock-film-festival-is-coming-volunteer/
ATTACH;FMTTYPE=image/jpeg:https://castlerockartistalliance.com/wp-content/uploads/2024/02/unnamed-3.jpg
ORGANIZER;CN="Castle Rock Artist Alliance":MAILTO:cindyeberlycraaexhibits@gmail.com
END:VEVENT
END:VCALENDAR