BEGIN:VCALENDAR
VERSION:2.0
PRODID:-//Castle Rock Artist Alliance - ECPv6.15.20//NONSGML v1.0//EN
CALSCALE:GREGORIAN
METHOD:PUBLISH
X-WR-CALNAME:Castle Rock Artist Alliance
X-ORIGINAL-URL:https://castlerockartistalliance.com
X-WR-CALDESC:Events for Castle Rock Artist Alliance
REFRESH-INTERVAL;VALUE=DURATION:PT1H
X-Robots-Tag:noindex
X-PUBLISHED-TTL:PT1H
BEGIN:VTIMEZONE
TZID:America/Denver
BEGIN:DAYLIGHT
TZOFFSETFROM:-0700
TZOFFSETTO:-0600
TZNAME:MDT
DTSTART:20230312T090000
END:DAYLIGHT
BEGIN:STANDARD
TZOFFSETFROM:-0600
TZOFFSETTO:-0700
TZNAME:MST
DTSTART:20231105T080000
END:STANDARD
BEGIN:DAYLIGHT
TZOFFSETFROM:-0700
TZOFFSETTO:-0600
TZNAME:MDT
DTSTART:20240310T090000
END:DAYLIGHT
BEGIN:STANDARD
TZOFFSETFROM:-0600
TZOFFSETTO:-0700
TZNAME:MST
DTSTART:20241103T080000
END:STANDARD
BEGIN:DAYLIGHT
TZOFFSETFROM:-0700
TZOFFSETTO:-0600
TZNAME:MDT
DTSTART:20250309T090000
END:DAYLIGHT
BEGIN:STANDARD
TZOFFSETFROM:-0600
TZOFFSETTO:-0700
TZNAME:MST
DTSTART:20251102T080000
END:STANDARD
BEGIN:DAYLIGHT
TZOFFSETFROM:-0700
TZOFFSETTO:-0600
TZNAME:MDT
DTSTART:20260308T090000
END:DAYLIGHT
BEGIN:STANDARD
TZOFFSETFROM:-0600
TZOFFSETTO:-0700
TZNAME:MST
DTSTART:20261101T080000
END:STANDARD
END:VTIMEZONE
BEGIN:VEVENT
DTSTART;TZID=America/Denver:20240913T080000
DTEND;TZID=America/Denver:20241231T220000
DTSTAMP:20260421T112515
CREATED:20240906T194302Z
LAST-MODIFIED:20240915T025929Z
UID:24352-1726214400-1735682400@castlerockartistalliance.com
SUMMARY:Castle Rock Film Festival Entry is Open   https://castlerockartistalliance.com/event/film-festival/
DESCRIPTION:https://castlerockartistalliance.com/event/film-festival/
URL:https://castlerockartistalliance.com/event/film-festival/
ATTACH;FMTTYPE=image/png:https://castlerockartistalliance.com/wp-content/uploads/2024/04/Screen-Shot-2024-04-02-at-7.59.05-AM.png
END:VEVENT
BEGIN:VEVENT
DTSTART;TZID=America/Denver:20240921T080000
DTEND;TZID=America/Denver:20241116T170000
DTSTAMP:20260421T112515
CREATED:20240514T014348Z
LAST-MODIFIED:20240915T025725Z
UID:24021-1726905600-1731776400@castlerockartistalliance.com
SUMMARY:Sinners & Saints Artist Exhibit featuring Tamara Andersen & Barb Villani
DESCRIPTION:
URL:https://castlerockartistalliance.com/event/art-exhibit-at-sinners-saints/
LOCATION:Sinners & Saints at Ecclesia
ATTACH;FMTTYPE=image/jpeg:https://castlerockartistalliance.com/wp-content/uploads/2024/02/2023-05-21.jpg
ORGANIZER;CN="Castle Rock Artist Alliance":MAILTO:cindyeberlycraaexhibits@gmail.com
END:VEVENT
BEGIN:VEVENT
DTSTART;TZID=America/Denver:20240928T080000
DTEND;TZID=America/Denver:20241123T170000
DTSTAMP:20260421T112515
CREATED:20240514T015651Z
LAST-MODIFIED:20241009T002213Z
UID:24029-1727510400-1732381200@castlerockartistalliance.com
SUMMARY:CRAA Artist Exhibit At Castle Rocks & Jewelry
DESCRIPTION:Space available for 1 artist RSVP to sign up
URL:https://castlerockartistalliance.com/event/art-exhibit-at-castle-rocks-jewelry/
LOCATION:Castle Rocks & Jewelry\, Limelight Ave Unit C\, CO\, 80109\, United States
ATTACH;FMTTYPE=image/jpeg:https://castlerockartistalliance.com/wp-content/uploads/2024/04/IMG_7035-1-scaled.jpg
ORGANIZER;CN="Castle Rock Artist Alliance":MAILTO:cindyeberlycraaexhibits@gmail.com
END:VEVENT
BEGIN:VEVENT
DTSTART;TZID=America/Denver:20241109T080000
DTEND;TZID=America/Denver:20250104T170000
DTSTAMP:20260421T112515
CREATED:20240827T190200Z
LAST-MODIFIED:20250104T193820Z
UID:24310-1731139200-1736010000@castlerockartistalliance.com
SUMMARY:CRAA Artist Exhibit featuring Lisa Lopez Huffman & Darcy Fisher
DESCRIPTION:Artist Happy Hour Thursday November 21 4pm-6pm
URL:https://castlerockartistalliance.com/event/union-american-bistro-craa-present-artis-exhibit/
LOCATION:Union American Bistro\, 3 S. Wilcox Street\, Castle Rock\, CO\, 80104\, United States
ATTACH;FMTTYPE=image/png:https://castlerockartistalliance.com/wp-content/uploads/2024/08/Image-1.png
END:VEVENT
END:VCALENDAR