BEGIN:VCALENDAR
VERSION:2.0
PRODID:-//Castle Rock Artist Alliance - ECPv6.15.20//NONSGML v1.0//EN
CALSCALE:GREGORIAN
METHOD:PUBLISH
X-WR-CALNAME:Castle Rock Artist Alliance
X-ORIGINAL-URL:https://castlerockartistalliance.com
X-WR-CALDESC:Events for Castle Rock Artist Alliance
REFRESH-INTERVAL;VALUE=DURATION:PT1H
X-Robots-Tag:noindex
X-PUBLISHED-TTL:PT1H
BEGIN:VTIMEZONE
TZID:America/Denver
BEGIN:DAYLIGHT
TZOFFSETFROM:-0700
TZOFFSETTO:-0600
TZNAME:MDT
DTSTART:20230312T090000
END:DAYLIGHT
BEGIN:STANDARD
TZOFFSETFROM:-0600
TZOFFSETTO:-0700
TZNAME:MST
DTSTART:20231105T080000
END:STANDARD
BEGIN:DAYLIGHT
TZOFFSETFROM:-0700
TZOFFSETTO:-0600
TZNAME:MDT
DTSTART:20240310T090000
END:DAYLIGHT
BEGIN:STANDARD
TZOFFSETFROM:-0600
TZOFFSETTO:-0700
TZNAME:MST
DTSTART:20241103T080000
END:STANDARD
BEGIN:DAYLIGHT
TZOFFSETFROM:-0700
TZOFFSETTO:-0600
TZNAME:MDT
DTSTART:20250309T090000
END:DAYLIGHT
BEGIN:STANDARD
TZOFFSETFROM:-0600
TZOFFSETTO:-0700
TZNAME:MST
DTSTART:20251102T080000
END:STANDARD
END:VTIMEZONE
BEGIN:VTIMEZONE
TZID:UTC
BEGIN:STANDARD
TZOFFSETFROM:+0000
TZOFFSETTO:+0000
TZNAME:UTC
DTSTART:20230101T000000
END:STANDARD
END:VTIMEZONE
BEGIN:VEVENT
DTSTART;VALUE=DATE:20240316
DTEND;VALUE=DATE:20240519
DTSTAMP:20260423T180731
CREATED:20240311T005659Z
LAST-MODIFIED:20240316T022048Z
UID:23463-1710547200-1716076799@castlerockartistalliance.com
SUMMARY:Sinners & Saints
DESCRIPTION:CRAA Art Exhibit \nFeatured Artist Lynn Hurley & \nFeatured Artist Carrie Martin
URL:https://castlerockartistalliance.com/event/sinners-saints/
LOCATION:Sinner & Saints in Ecclesia\, 221 Perry Street\, Castle Rock\, CO\, 80104\, United States
ATTACH;FMTTYPE=image/jpeg:https://castlerockartistalliance.com/wp-content/uploads/2024/02/2022-03-13-1.jpg
ORGANIZER;CN="Castle Rock Artist Alliance":MAILTO:cindyeberlycraaexhibits@gmail.com
END:VEVENT
BEGIN:VEVENT
DTSTART;VALUE=DATE:20240330
DTEND;VALUE=DATE:20240602
DTSTAMP:20260423T180731
CREATED:20240219T120938Z
LAST-MODIFIED:20240329T212834Z
UID:22514-1711756800-1717286399@castlerockartistalliance.com
SUMMARY:Castle Rocks &  Jewelry Artist Exhibit
DESCRIPTION:CRAA Artist Exhibit \nFeatured Artist Michael Malta. Michael’s website is www.michaelmaltastudio.com.
URL:https://castlerockartistalliance.com/event/artist-exhibit/
LOCATION:Castle Rocks & Jewelry\, Limelight Ave Unit C\, CO\, 80109\, United States
CATEGORIES:Art Show
ATTACH;FMTTYPE=image/jpeg:https://castlerockartistalliance.com/wp-content/uploads/2024/02/IMG_2639-1.jpg
ORGANIZER;CN="CRAA Exhibits Cindy Eberly":MAILTO:cindyeberlycraaexhibits@gmail.com
END:VEVENT
BEGIN:VEVENT
DTSTART;VALUE=DATE:20240511
DTEND;VALUE=DATE:20240714
DTSTAMP:20260423T180731
CREATED:20240219T121631Z
LAST-MODIFIED:20240514T021341Z
UID:22517-1715385600-1720915199@castlerockartistalliance.com
SUMMARY:Union American Bistro Artist Exhibit
DESCRIPTION:CRAA Presents featured Artists Carol Gori\, Pam Cramer\, Jerry Thompson \n \n 
URL:https://castlerockartistalliance.com/event/artist-exhibit-2/
LOCATION:Union American Bistro\, 3 S. Wilcox Street\, Castle Rock\, CO\, 80104\, United States
CATEGORIES:Art Show
ATTACH;FMTTYPE=image/jpeg:https://castlerockartistalliance.com/wp-content/uploads/2024/02/2023-02-25-2.jpg
ORGANIZER;CN="CRAA Exhibits Cindy Eberly":MAILTO:cindyeberlycraaexhibits@gmail.com
END:VEVENT
END:VCALENDAR